Package: ssize Version: 1.83.0 Command: /home/biocbuild/R/R/bin/R CMD INSTALL ssize StartedAt: 2025-10-16 21:09:32 -0000 (Thu, 16 Oct 2025) EndedAt: 2025-10-16 21:10:09 -0000 (Thu, 16 Oct 2025) EllapsedTime: 37.1 seconds RetCode: 0 Status: OK