Package: ssize Version: 1.83.0 Command: /home/biocbuild/bbs-3.22-bioc/R/bin/R CMD INSTALL ssize StartedAt: 2025-10-20 15:02:05 -0400 (Mon, 20 Oct 2025) EndedAt: 2025-10-20 15:02:22 -0400 (Mon, 20 Oct 2025) EllapsedTime: 16.3 seconds RetCode: 0 Status: OK