Package: ssize Version: 1.83.0 Command: /home/biocbuild/bbs-3.22-bioc/R/bin/R CMD check --install=check:ssize.install-out.txt --library=/home/biocbuild/bbs-3.22-bioc/R/site-library --timings ssize_1.83.0.tar.gz StartedAt: 2025-10-22 05:24:53 -0400 (Wed, 22 Oct 2025) EndedAt: 2025-10-22 05:25:18 -0400 (Wed, 22 Oct 2025) EllapsedTime: 25.0 seconds RetCode: 0 Status: OK CheckDir: ssize.Rcheck Warnings: 0