Package: ssize Version: 1.83.0 Command: /home/biocbuild/bbs-3.22-bioc/R/bin/R CMD build --keep-empty-dirs --no-resave-data --md5 ssize StartedAt: 2025-10-20 20:16:37 -0400 (Mon, 20 Oct 2025) EndedAt: 2025-10-20 20:16:43 -0400 (Mon, 20 Oct 2025) EllapsedTime: 6.0 seconds RetCode: 0 Status: OK PackageFile: ssize_1.83.0.tar.gz PackageFileSize: 545.8 KiB