Package: ssize Version: 1.83.0 Command: /Library/Frameworks/R.framework/Resources/bin/R CMD INSTALL ssize StartedAt: 2025-10-19 15:06:51 -0400 (Sun, 19 Oct 2025) EndedAt: 2025-10-19 15:07:37 -0400 (Sun, 19 Oct 2025) EllapsedTime: 46.1 seconds RetCode: 0 Status: OK