Package: ssize Version: 1.83.0 Command: /Library/Frameworks/R.framework/Resources/bin/R CMD check --install=check:ssize.install-out.txt --library=/Library/Frameworks/R.framework/Resources/library --no-vignettes --timings ssize_1.83.0.tar.gz StartedAt: 2025-10-19 22:16:58 -0400 (Sun, 19 Oct 2025) EndedAt: 2025-10-19 22:17:09 -0400 (Sun, 19 Oct 2025) EllapsedTime: 11.1 seconds RetCode: 0 Status: OK CheckDir: ssize.Rcheck Warnings: 0