Package: ssize Version: 1.83.0 Command: rm -rf ssize.buildbin-libdir && mkdir ssize.buildbin-libdir && /Users/biocbuild/BBS/utils/build-universal.sh ssize_1.83.0.tar.gz /Library/Frameworks/R.framework/Resources/bin/R ssize.buildbin-libdir StartedAt: 2025-10-19 23:17:56 -0400 (Sun, 19 Oct 2025) EndedAt: 2025-10-19 23:17:58 -0400 (Sun, 19 Oct 2025) EllapsedTime: 2.0 seconds RetCode: 0 Status: OK PackageFile: ssize_1.83.0.tgz PackageFileSize: 536.8 KiB