Package: sscu Version: 2.39.0 Command: /home/biocbuild/R/R/bin/R CMD check --install=check:sscu.install-out.txt --library=/home/biocbuild/R/R/site-library --no-vignettes --timings sscu_2.39.0.tar.gz StartedAt: 2025-10-17 14:07:45 -0000 (Fri, 17 Oct 2025) EndedAt: 2025-10-17 14:09:46 -0000 (Fri, 17 Oct 2025) EllapsedTime: 120.2 seconds RetCode: 0 Status: WARNINGS CheckDir: sscu.Rcheck Warnings: 1