Package: sscu Version: 2.39.0 Command: /home/biocbuild/R/R/bin/R CMD build --keep-empty-dirs --no-resave-data sscu StartedAt: 2025-10-21 03:30:06 -0000 (Tue, 21 Oct 2025) EndedAt: 2025-10-21 03:30:25 -0000 (Tue, 21 Oct 2025) EllapsedTime: 19.0 seconds RetCode: 0 Status: OK PackageFile: sscu_2.39.0.tar.gz PackageFileSize: 1.287 MiB