Package: sscu Version: 2.39.0 Command: chmod a+r sscu -R && F:\biocbuild\bbs-3.22-bioc\R\bin\R.exe CMD build --keep-empty-dirs --no-resave-data sscu StartedAt: 2025-08-14 23:35:26 -0400 (Thu, 14 Aug 2025) EndedAt: 2025-08-14 23:35:49 -0400 (Thu, 14 Aug 2025) EllapsedTime: 22.4 seconds RetCode: 0 Status: OK PackageFile: sscu_2.39.0.tar.gz PackageFileSize: 1.287 MiB