Package: sscu Version: 2.39.0 Command: /home/biocbuild/bbs-3.22-bioc/R/bin/R CMD INSTALL sscu StartedAt: 2025-10-19 15:16:08 -0400 (Sun, 19 Oct 2025) EndedAt: 2025-10-19 15:16:17 -0400 (Sun, 19 Oct 2025) EllapsedTime: 9.5 seconds RetCode: 0 Status: OK