Package: sscu Version: 2.39.0 Command: /home/biocbuild/bbs-3.22-bioc/R/bin/R CMD check --install=check:sscu.install-out.txt --library=/home/biocbuild/bbs-3.22-bioc/R/site-library --timings sscu_2.39.0.tar.gz StartedAt: 2025-10-20 05:21:41 -0400 (Mon, 20 Oct 2025) EndedAt: 2025-10-20 05:23:04 -0400 (Mon, 20 Oct 2025) EllapsedTime: 83.1 seconds RetCode: 0 Status: WARNINGS CheckDir: sscu.Rcheck Warnings: 1