Package: sscu Version: 2.39.0 Command: /Library/Frameworks/R.framework/Resources/bin/R CMD INSTALL sscu StartedAt: 2025-10-19 15:19:09 -0400 (Sun, 19 Oct 2025) EndedAt: 2025-10-19 15:19:23 -0400 (Sun, 19 Oct 2025) EllapsedTime: 14.6 seconds RetCode: 0 Status: OK