Package: sscu Version: 2.39.0 Command: /Library/Frameworks/R.framework/Resources/bin/R CMD INSTALL sscu StartedAt: 2025-10-21 15:08:51 -0400 (Tue, 21 Oct 2025) EndedAt: 2025-10-21 15:08:55 -0400 (Tue, 21 Oct 2025) EllapsedTime: 4.3 seconds RetCode: 0 Status: OK