Package: sscu Version: 2.39.0 Command: rm -rf sscu.buildbin-libdir && mkdir sscu.buildbin-libdir && /Users/biocbuild/BBS/utils/build-universal.sh sscu_2.39.0.tar.gz /Library/Frameworks/R.framework/Resources/bin/R sscu.buildbin-libdir StartedAt: 2025-10-21 23:19:30 -0400 (Tue, 21 Oct 2025) EndedAt: 2025-10-21 23:19:35 -0400 (Tue, 21 Oct 2025) EllapsedTime: 5.1 seconds RetCode: 0 Status: OK PackageFile: sscu_2.39.0.tgz PackageFileSize: 1.373 MiB