Package: srnadiff Version: 1.29.1 Command: F:\biocbuild\bbs-3.22-bioc\R\bin\R.exe CMD check --no-multiarch --install=check:srnadiff.install-out.txt --library=F:\biocbuild\bbs-3.22-bioc\R\library --no-vignettes --timings srnadiff_1.29.1.tar.gz StartedAt: 2025-08-15 08:24:05 -0400 (Fri, 15 Aug 2025) EndedAt: 2025-08-15 08:47:07 -0400 (Fri, 15 Aug 2025) EllapsedTime: 1382.2 seconds RetCode: 0 Status: WARNINGS CheckDir: srnadiff.Rcheck Warnings: 1