Package: squallms Version: 1.3.0 Command: F:\biocbuild\bbs-3.22-bioc\R\bin\R.exe CMD check --no-multiarch --install=check:squallms.install-out.txt --library=F:\biocbuild\bbs-3.22-bioc\R\library --no-vignettes --timings squallms_1.3.0.tar.gz StartedAt: 2025-08-15 08:23:27 -0400 (Fri, 15 Aug 2025) EndedAt: 2025-08-15 08:33:46 -0400 (Fri, 15 Aug 2025) EllapsedTime: 619.3 seconds RetCode: 0 Status: OK CheckDir: squallms.Rcheck Warnings: 0