Package: squallms Version: 1.3.0 Command: /Library/Frameworks/R.framework/Resources/bin/R CMD INSTALL squallms StartedAt: 2025-10-24 15:53:55 -0400 (Fri, 24 Oct 2025) EndedAt: 2025-10-24 15:55:00 -0400 (Fri, 24 Oct 2025) EllapsedTime: 64.9 seconds RetCode: 0 Status: OK