Package: spqn Version: 1.21.0 Command: rm -rf spqn.buildbin-libdir && mkdir spqn.buildbin-libdir && F:\biocbuild\bbs-3.22-bioc\R\bin\R.exe CMD INSTALL --build --library=spqn.buildbin-libdir spqn_1.21.0.tar.gz StartedAt: 2025-08-15 11:25:16 -0400 (Fri, 15 Aug 2025) EndedAt: 2025-08-15 11:25:43 -0400 (Fri, 15 Aug 2025) EllapsedTime: 27.0 seconds RetCode: 0 Status: OK PackageFile: spqn_1.21.0.zip PackageFileSize: 2.281 MiB