Package: spqn Version: 1.21.0 Command: rm -rf spqn.buildbin-libdir && mkdir spqn.buildbin-libdir && /Users/biocbuild/BBS/utils/build-universal.sh spqn_1.21.0.tar.gz /Library/Frameworks/R.framework/Resources/bin/R spqn.buildbin-libdir StartedAt: 2025-10-20 03:36:27 -0400 (Mon, 20 Oct 2025) EndedAt: 2025-10-20 03:37:04 -0400 (Mon, 20 Oct 2025) EllapsedTime: 37.1 seconds RetCode: 0 Status: OK PackageFile: spqn_1.21.0.tgz PackageFileSize: 2.838 MiB