Package: spqn Version: 1.21.0 Command: /Library/Frameworks/R.framework/Resources/bin/R CMD INSTALL spqn StartedAt: 2025-10-23 15:19:27 -0400 (Thu, 23 Oct 2025) EndedAt: 2025-10-23 15:19:37 -0400 (Thu, 23 Oct 2025) EllapsedTime: 10.3 seconds RetCode: 0 Status: OK