Package: spqn Version: 1.21.0 Command: /Library/Frameworks/R.framework/Resources/bin/R CMD build --keep-empty-dirs --no-resave-data spqn StartedAt: 2025-10-23 17:56:50 -0400 (Thu, 23 Oct 2025) EndedAt: 2025-10-23 17:57:32 -0400 (Thu, 23 Oct 2025) EllapsedTime: 42.5 seconds RetCode: 0 Status: OK PackageFile: spqn_1.21.0.tar.gz PackageFileSize: 2.81 MiB