Package: spqn Version: 1.21.0 Command: rm -rf spqn.buildbin-libdir && mkdir spqn.buildbin-libdir && /Users/biocbuild/BBS/utils/build-universal.sh spqn_1.21.0.tar.gz /Library/Frameworks/R.framework/Resources/bin/R spqn.buildbin-libdir StartedAt: 2025-10-23 23:28:45 -0400 (Thu, 23 Oct 2025) EndedAt: 2025-10-23 23:28:56 -0400 (Thu, 23 Oct 2025) EllapsedTime: 11.3 seconds RetCode: 0 Status: OK PackageFile: spqn_1.21.0.tgz PackageFileSize: 2.839 MiB