Package: spoon Version: 1.6.0 Command: /Library/Frameworks/R.framework/Resources/bin/R CMD build --keep-empty-dirs --no-resave-data spoon StartedAt: 2025-11-03 18:57:13 -0500 (Mon, 03 Nov 2025) EndedAt: 2025-11-03 18:59:04 -0500 (Mon, 03 Nov 2025) EllapsedTime: 110.6 seconds RetCode: 0 Status: OK PackageFile: spoon_1.6.0.tar.gz PackageFileSize: 461.1 KiB