Package: spoon Version: 1.6.0 Command: /Library/Frameworks/R.framework/Resources/bin/R CMD build --keep-empty-dirs --no-resave-data spoon StartedAt: 2025-11-10 17:53:35 -0500 (Mon, 10 Nov 2025) EndedAt: 2025-11-10 17:54:20 -0500 (Mon, 10 Nov 2025) EllapsedTime: 44.5 seconds RetCode: 0 Status: OK PackageFile: spoon_1.6.0.tar.gz PackageFileSize: 461 KiB