Package: spoon Version: 1.6.0 Command: rm -rf spoon.buildbin-libdir && mkdir spoon.buildbin-libdir && /Users/biocbuild/BBS/utils/build-universal.sh spoon_1.6.0.tar.gz /Library/Frameworks/R.framework/Resources/bin/R spoon.buildbin-libdir StartedAt: 2025-11-10 23:38:16 -0500 (Mon, 10 Nov 2025) EndedAt: 2025-11-10 23:38:27 -0500 (Mon, 10 Nov 2025) EllapsedTime: 10.2 seconds RetCode: 0 Status: OK PackageFile: spoon_1.6.0.tgz PackageFileSize: 317.9 KiB