Package: spoon Version: 1.6.0 Command: /Library/Frameworks/R.framework/Resources/bin/R CMD INSTALL spoon StartedAt: 2025-11-17 17:35:20 -0500 (Mon, 17 Nov 2025) EndedAt: 2025-11-17 17:35:29 -0500 (Mon, 17 Nov 2025) EllapsedTime: 9.4 seconds RetCode: 0 Status: OK