Package: spoon Version: 1.6.0 Command: /Library/Frameworks/R.framework/Resources/bin/R CMD check --install=check:spoon.install-out.txt --library=/Library/Frameworks/R.framework/Resources/library --no-vignettes --timings spoon_1.6.0.tar.gz StartedAt: 2025-11-18 13:40:29 -0500 (Tue, 18 Nov 2025) EndedAt: 2025-11-18 13:44:04 -0500 (Tue, 18 Nov 2025) EllapsedTime: 214.8 seconds RetCode: 0 Status: OK CheckDir: spoon.Rcheck Warnings: 0