Package: spoon Version: 1.6.0 Command: /Library/Frameworks/R.framework/Resources/bin/R CMD build --keep-empty-dirs --no-resave-data spoon StartedAt: 2025-11-18 01:27:49 -0500 (Tue, 18 Nov 2025) EndedAt: 2025-11-18 01:28:41 -0500 (Tue, 18 Nov 2025) EllapsedTime: 52.5 seconds RetCode: 0 Status: OK PackageFile: spoon_1.6.0.tar.gz PackageFileSize: 461.1 KiB