Package: spoon Version: 1.6.0 Command: rm -rf spoon.buildbin-libdir && mkdir spoon.buildbin-libdir && /Users/biocbuild/BBS/utils/build-universal.sh spoon_1.6.0.tar.gz /Library/Frameworks/R.framework/Resources/bin/R spoon.buildbin-libdir StartedAt: 2025-11-18 16:29:14 -0500 (Tue, 18 Nov 2025) EndedAt: 2025-11-18 16:29:26 -0500 (Tue, 18 Nov 2025) EllapsedTime: 12.1 seconds RetCode: 0 Status: OK PackageFile: spoon_1.6.0.tgz PackageFileSize: 317.9 KiB