Package: spoon Version: 1.6.0 Maintainer: Kinnary Shah MaintainerEmail: kinnaryshahh at gmail.com git_url: https://git.bioconductor.org/packages/spoon git_branch: RELEASE_3_22 git_last_commit: c2a5b85 git_last_commit_date: 2025-10-29 11:28:09 -0500 (Wed, 29 Oct 2025)