Package: splots Version: 1.75.0 Command: F:\biocbuild\bbs-3.22-bioc\R\bin\R.exe CMD INSTALL splots StartedAt: 2025-08-14 15:21:25 -0400 (Thu, 14 Aug 2025) EndedAt: 2025-08-14 15:21:36 -0400 (Thu, 14 Aug 2025) EllapsedTime: 11.3 seconds RetCode: 0 Status: OK