Package: splots Version: 1.75.0 Command: chmod a+r splots -R && F:\biocbuild\bbs-3.22-bioc\R\bin\R.exe CMD build --keep-empty-dirs --no-resave-data splots StartedAt: 2025-08-14 23:31:45 -0400 (Thu, 14 Aug 2025) EndedAt: 2025-08-14 23:33:18 -0400 (Thu, 14 Aug 2025) EllapsedTime: 92.7 seconds RetCode: 0 Status: OK PackageFile: splots_1.75.0.tar.gz PackageFileSize: 482.5 KiB