Package: splots Version: 1.75.0 Command: /home/biocbuild/bbs-3.22-bioc/R/bin/R CMD INSTALL splots StartedAt: 2025-10-03 15:03:43 -0400 (Fri, 03 Oct 2025) EndedAt: 2025-10-03 15:04:04 -0400 (Fri, 03 Oct 2025) EllapsedTime: 20.7 seconds RetCode: 0 Status: OK