Package: splots Version: 1.75.0 Command: /Library/Frameworks/R.framework/Resources/bin/R CMD INSTALL splots StartedAt: 2025-10-17 15:02:37 -0400 (Fri, 17 Oct 2025) EndedAt: 2025-10-17 15:02:45 -0400 (Fri, 17 Oct 2025) EllapsedTime: 8.5 seconds RetCode: 0 Status: OK