Package: splots Version: 1.75.0 Command: /Library/Frameworks/R.framework/Resources/bin/R CMD check --install=check:splots.install-out.txt --library=/Library/Frameworks/R.framework/Resources/library --no-vignettes --timings splots_1.75.0.tar.gz StartedAt: 2025-10-19 22:15:26 -0400 (Sun, 19 Oct 2025) EndedAt: 2025-10-19 22:15:37 -0400 (Sun, 19 Oct 2025) EllapsedTime: 10.1 seconds RetCode: 0 Status: OK CheckDir: splots.Rcheck Warnings: 0