Package: splots Version: 1.75.0 Command: /Library/Frameworks/R.framework/Resources/bin/R CMD build --keep-empty-dirs --no-resave-data splots StartedAt: 2025-10-19 17:49:33 -0400 (Sun, 19 Oct 2025) EndedAt: 2025-10-19 17:49:58 -0400 (Sun, 19 Oct 2025) EllapsedTime: 25.3 seconds RetCode: 0 Status: OK PackageFile: splots_1.75.0.tar.gz PackageFileSize: 706.2 KiB