Package: splots Version: 1.75.0 Command: rm -rf splots.buildbin-libdir && mkdir splots.buildbin-libdir && /Users/biocbuild/BBS/utils/build-universal.sh splots_1.75.0.tar.gz /Library/Frameworks/R.framework/Resources/bin/R splots.buildbin-libdir StartedAt: 2025-10-17 23:27:11 -0400 (Fri, 17 Oct 2025) EndedAt: 2025-10-17 23:27:13 -0400 (Fri, 17 Oct 2025) EllapsedTime: 2.0 seconds RetCode: 0 Status: OK PackageFile: splots_1.75.0.tgz PackageFileSize: 724 KiB