Package: spkTools Version: 1.65.0 Command: /home/biocbuild/bbs-3.22-bioc/R/bin/R CMD check --install=check:spkTools.install-out.txt --library=/home/biocbuild/bbs-3.22-bioc/R/site-library --timings spkTools_1.65.0.tar.gz StartedAt: 2025-10-21 05:06:52 -0400 (Tue, 21 Oct 2025) EndedAt: 2025-10-21 05:08:13 -0400 (Tue, 21 Oct 2025) EllapsedTime: 81.1 seconds RetCode: 0 Status: OK CheckDir: spkTools.Rcheck Warnings: 0