Package: spkTools Version: 1.65.0 Command: /Library/Frameworks/R.framework/Resources/bin/R CMD INSTALL spkTools StartedAt: 2025-10-21 15:17:42 -0400 (Tue, 21 Oct 2025) EndedAt: 2025-10-21 15:17:54 -0400 (Tue, 21 Oct 2025) EllapsedTime: 11.9 seconds RetCode: 0 Status: OK