Package: spillR Version: 1.5.0 Command: /Library/Frameworks/R.framework/Resources/bin/R CMD check --install=check:spillR.install-out.txt --library=/Library/Frameworks/R.framework/Resources/library --no-vignettes --timings spillR_1.5.0.tar.gz StartedAt: 2025-10-02 22:20:04 -0400 (Thu, 02 Oct 2025) EndedAt: 2025-10-02 22:22:27 -0400 (Thu, 02 Oct 2025) EllapsedTime: 142.6 seconds RetCode: 0 Status: OK CheckDir: spillR.Rcheck Warnings: 0