Package: spiky Version: 1.16.0 Command: /home/biocbuild/R/R/bin/R CMD check --install=check:spiky.install-out.txt --library=/home/biocbuild/R/R/site-library --no-vignettes --timings spiky_1.16.0.tar.gz StartedAt: 2025-11-18 15:31:54 -0000 (Tue, 18 Nov 2025) EndedAt: 2025-11-18 15:38:15 -0000 (Tue, 18 Nov 2025) EllapsedTime: 380.4 seconds RetCode: 0 Status: OK CheckDir: spiky.Rcheck Warnings: 0