Package: spiky Version: 1.16.0 Command: /home/biocbuild/bbs-3.22-bioc/R/bin/R CMD INSTALL spiky StartedAt: 2025-11-14 15:35:33 -0500 (Fri, 14 Nov 2025) EndedAt: 2025-11-14 15:36:15 -0500 (Fri, 14 Nov 2025) EllapsedTime: 42.4 seconds RetCode: 0 Status: OK