Package: spiky Version: 1.16.0 Command: /Library/Frameworks/R.framework/Resources/bin/R CMD INSTALL spiky StartedAt: 2025-11-10 15:18:29 -0500 (Mon, 10 Nov 2025) EndedAt: 2025-11-10 15:18:46 -0500 (Mon, 10 Nov 2025) EllapsedTime: 17.2 seconds RetCode: 0 Status: OK