Package: spiky Version: 1.16.0 Command: /Library/Frameworks/R.framework/Resources/bin/R CMD check --install=check:spiky.install-out.txt --library=/Library/Frameworks/R.framework/Resources/library --no-vignettes --timings spiky_1.16.0.tar.gz StartedAt: 2025-11-10 22:34:08 -0500 (Mon, 10 Nov 2025) EndedAt: 2025-11-10 22:36:14 -0500 (Mon, 10 Nov 2025) EllapsedTime: 125.4 seconds RetCode: 0 Status: OK CheckDir: spiky.Rcheck Warnings: 0