Package: spiky Version: 1.16.0 Command: /Library/Frameworks/R.framework/Resources/bin/R CMD build --keep-empty-dirs --no-resave-data spiky StartedAt: 2025-11-10 17:52:14 -0500 (Mon, 10 Nov 2025) EndedAt: 2025-11-10 17:52:59 -0500 (Mon, 10 Nov 2025) EllapsedTime: 44.5 seconds RetCode: 0 Status: OK PackageFile: spiky_1.16.0.tar.gz PackageFileSize: 14.31 MiB