Package: spiky Version: 1.16.0 Command: rm -rf spiky.buildbin-libdir && mkdir spiky.buildbin-libdir && /Users/biocbuild/BBS/utils/build-universal.sh spiky_1.16.0.tar.gz /Library/Frameworks/R.framework/Resources/bin/R spiky.buildbin-libdir StartedAt: 2025-11-10 23:38:09 -0500 (Mon, 10 Nov 2025) EndedAt: 2025-11-10 23:38:29 -0500 (Mon, 10 Nov 2025) EllapsedTime: 19.4 seconds RetCode: 0 Status: OK PackageFile: spiky_1.16.0.tgz PackageFileSize: 15.24 MiB