Package: speckle Version: 1.9.1 Command: /home/biocbuild/R/R/bin/R CMD check --install=check:speckle.install-out.txt --library=/home/biocbuild/R/R/site-library --no-vignettes --timings speckle_1.9.1.tar.gz StartedAt: 2025-10-17 13:57:58 -0000 (Fri, 17 Oct 2025) EndedAt: 2025-10-17 14:03:38 -0000 (Fri, 17 Oct 2025) EllapsedTime: 340.5 seconds RetCode: 0 Status: OK CheckDir: speckle.Rcheck Warnings: 0