Package: speckle Version: 1.9.1 Command: /home/biocbuild/R/R/bin/R CMD build --keep-empty-dirs --no-resave-data speckle StartedAt: 2025-10-17 04:50:19 -0000 (Fri, 17 Oct 2025) EndedAt: 2025-10-17 04:52:09 -0000 (Fri, 17 Oct 2025) EllapsedTime: 110.1 seconds RetCode: 0 Status: OK PackageFile: speckle_1.9.1.tar.gz PackageFileSize: 765 KiB