Package: speckle Version: 1.9.0 Command: chmod a+r speckle -R && F:\biocbuild\bbs-3.22-bioc\R\bin\R.exe CMD build --keep-empty-dirs --no-resave-data speckle StartedAt: 2025-08-14 23:28:37 -0400 (Thu, 14 Aug 2025) EndedAt: 2025-08-14 23:30:49 -0400 (Thu, 14 Aug 2025) EllapsedTime: 132.5 seconds RetCode: 0 Status: OK PackageFile: speckle_1.9.0.tar.gz PackageFileSize: 559.5 KiB